BEGIN:VCALENDAR
VERSION:2.0
PRODID:-//Bobs &amp; Crow Lake Association - ECPv6.15.20//NONSGML v1.0//EN
CALSCALE:GREGORIAN
METHOD:PUBLISH
X-WR-CALNAME:Bobs &amp; Crow Lake Association
X-ORIGINAL-URL:https://bobsandcrowlakes.ca
X-WR-CALDESC:Events for Bobs &amp; Crow Lake Association
REFRESH-INTERVAL;VALUE=DURATION:PT1H
X-Robots-Tag:noindex
X-PUBLISHED-TTL:PT1H
BEGIN:VTIMEZONE
TZID:America/Toronto
BEGIN:DAYLIGHT
TZOFFSETFROM:-0500
TZOFFSETTO:-0400
TZNAME:EDT
DTSTART:20240310T070000
END:DAYLIGHT
BEGIN:STANDARD
TZOFFSETFROM:-0400
TZOFFSETTO:-0500
TZNAME:EST
DTSTART:20241103T060000
END:STANDARD
BEGIN:DAYLIGHT
TZOFFSETFROM:-0500
TZOFFSETTO:-0400
TZNAME:EDT
DTSTART:20250309T070000
END:DAYLIGHT
BEGIN:STANDARD
TZOFFSETFROM:-0400
TZOFFSETTO:-0500
TZNAME:EST
DTSTART:20251102T060000
END:STANDARD
BEGIN:DAYLIGHT
TZOFFSETFROM:-0500
TZOFFSETTO:-0400
TZNAME:EDT
DTSTART:20260308T070000
END:DAYLIGHT
BEGIN:STANDARD
TZOFFSETFROM:-0400
TZOFFSETTO:-0500
TZNAME:EST
DTSTART:20261101T060000
END:STANDARD
END:VTIMEZONE
BEGIN:VEVENT
DTSTART;TZID=America/Toronto:20250816T080000
DTEND;TZID=America/Toronto:20250816T130000
DTSTAMP:20260422T182138
CREATED:20250808T170058Z
LAST-MODIFIED:20250809T031050Z
UID:2919-1755331200-1755349200@bobsandcrowlakes.ca
SUMMARY:Watershed Discovery Day 2025 - Aug 16\, 8AM - 1PM
DESCRIPTION:Attractions for all ages – Please join the 24th annual Watershed Discovery Event\, Saturday\, August 16\, 8:00-1:00\, at the Perth Farmers’ Market in the Crystal Palace. A morning of information and interactive displays for adults – interesting and fun activities for the children. \n\n\n\n\n\n\n\nExpert organisations have answers to your water questions and updates on current water-related issues in the region\, with informative and interactive displays: Rideau Valley Conservation Authority\, Watersheds Canada\, Federation of Ontario Cottagers’ Association\, Climate Network Lanark\, Plenty Canada\, REAL\, Our Turtles\, Ottawa Riverkeeper\, and our association. \n\n\n\nLearn about the programs in place to manage and protect our home water supplies\, manage our watershed water bodies and related resources\, including wildlife\, assist in caring for waterfront properties – and receive updates on current environmental issues in our community. This year will provide information on the crucial role that wetlands and natural environmental systems play in flood and drought control\, maintenance of surface and well water\, and animal and plant habitat – and challenges to them from extreme weather\, development pressures and changes in watershed infrastructure. \n\n\n\nFor the children\, enjoy and learn from the Paddling Puppeteer at 9:30 and 11:30\, examine water critters by microscope\, and participate in Perth Library’s Story Hour at 10:30\, our ‘Fishpond’\, and receive a blue heron tattoo.
URL:https://bobsandcrowlakes.ca/event/watershed-discovery-day-2025-attractions-for-all-ages/
LOCATION:Perth Farmers’ Market\, Crystal Palace\, 28 Drummond St E\, Perth\, Ontario\, K7H 1E9\, Canada
ATTACH;FMTTYPE=image/jpeg:https://bobsandcrowlakes.ca/wp-content/uploads/2025/08/gbcla-Watershed-Discovery-Day-2025-Poster-scaled.jpg
END:VEVENT
BEGIN:VEVENT
DTSTART;TZID=America/Toronto:20250813T180000
DTEND;TZID=America/Toronto:20250813T200000
DTSTAMP:20260422T182138
CREATED:20250715T011442Z
LAST-MODIFIED:20250809T025850Z
UID:2829-1755108000-1755115200@bobsandcrowlakes.ca
SUMMARY:Annual Township Lake Forum 2025 - Aug 13\, 6 PM - 8 PM
DESCRIPTION:Speakers and Topics \n\n\n\n\nConstable Rob Martell\, O.P.P. on Marine Safety\n\n\n\nDel Blakney\, Fire Chief\, on Fire Safety and Prevention\n\n\n\nJames Thompson\, Clerk\, on By-law Enforcement\n\n\n\nNetwork with members of the Lake Associations\, residents\, and Township staff\n\n\n\nShare ideas for future Lake Forum events\n\n\n\n\nWednesday\, August 13\, 20256:00 – 8:00 pmStorrington Centre\, 3910 Battersea RdHosted by the Township of South Frontenac.All welcome! \n\n\n\nPlease RSVP to hwoodland@southfrontenac.netSnacks and drinks provided
URL:https://bobsandcrowlakes.ca/event/annual-township-lake-forum-2025/
LOCATION:Storrington Centre\, 3910 Battersea Rd\, 3910 Battersea Rd\, Battersea\, ON\, K0H 1H0\, Canada
ATTACH;FMTTYPE=image/jpeg:https://bobsandcrowlakes.ca/wp-content/uploads/2025/07/gbcla-annual-township-lake-forum2025.jpg
ORGANIZER;CN="Township of South Frontenac":MAILTO:hwoodland@southfrontenac.net
END:VEVENT
BEGIN:VEVENT
DTSTART;TZID=America/Toronto:20250720T120000
DTEND;TZID=America/Toronto:20250720T150000
DTSTAMP:20260422T182138
CREATED:20250708T004127Z
LAST-MODIFIED:20250713T103249Z
UID:2735-1753012800-1753023600@bobsandcrowlakes.ca
SUMMARY:2025 Annual General Meeting
DESCRIPTION:12:00 Noon – Lunch. \n\n\n\nKen Cox\, Fire Advisor\, Ministry of Natural Resources and Forestry\n\n\n\n1:00 PM – Presentation by Ken Cox\, Fire Advisor\, Ministry of Natural Resources and Forestry. \n\n\n\n2:00 PM – Meeting. \n\n\n\nNEW MEMBERS ARE WELCOME. \n\n\n\n(You can see previous AGM minutes here) \n\n\n\nVenue: Glendower Hall\, 1381 Westport Rd\, Godfrey ON K0H 1T0\, Canada
URL:https://bobsandcrowlakes.ca/event/2025-annual-general-meeting/
LOCATION:Glendower Hall\, 1381 Westport Rd\, Godfrey\, Ontario\, K0H 1T0\, Canada
ATTACH;FMTTYPE=image/jpeg:https://bobsandcrowlakes.ca/wp-content/uploads/2025/07/gbcla-agm-2025-sign-450px.jpg
END:VEVENT
END:VCALENDAR