BEGIN:VCALENDAR
VERSION:2.0
PRODID:-//Bobs &amp; Crow Lake Association - ECPv6.15.20//NONSGML v1.0//EN
CALSCALE:GREGORIAN
METHOD:PUBLISH
X-WR-CALNAME:Bobs &amp; Crow Lake Association
X-ORIGINAL-URL:https://bobsandcrowlakes.ca
X-WR-CALDESC:Events for Bobs &amp; Crow Lake Association
REFRESH-INTERVAL;VALUE=DURATION:PT1H
X-Robots-Tag:noindex
X-PUBLISHED-TTL:PT1H
BEGIN:VTIMEZONE
TZID:America/Toronto
BEGIN:DAYLIGHT
TZOFFSETFROM:-0500
TZOFFSETTO:-0400
TZNAME:EDT
DTSTART:20250309T070000
END:DAYLIGHT
BEGIN:STANDARD
TZOFFSETFROM:-0400
TZOFFSETTO:-0500
TZNAME:EST
DTSTART:20251102T060000
END:STANDARD
BEGIN:DAYLIGHT
TZOFFSETFROM:-0500
TZOFFSETTO:-0400
TZNAME:EDT
DTSTART:20260308T070000
END:DAYLIGHT
BEGIN:STANDARD
TZOFFSETFROM:-0400
TZOFFSETTO:-0500
TZNAME:EST
DTSTART:20261101T060000
END:STANDARD
BEGIN:DAYLIGHT
TZOFFSETFROM:-0500
TZOFFSETTO:-0400
TZNAME:EDT
DTSTART:20270314T070000
END:DAYLIGHT
BEGIN:STANDARD
TZOFFSETFROM:-0400
TZOFFSETTO:-0500
TZNAME:EST
DTSTART:20271107T060000
END:STANDARD
END:VTIMEZONE
BEGIN:VEVENT
DTSTART;TZID=America/Toronto:20260223T000000
DTEND;TZID=America/Toronto:20260301T235959
DTSTAMP:20260422T181750
CREATED:20260205T062809Z
LAST-MODIFIED:20260205T062843Z
UID:3008-1771804800-1772409599@bobsandcrowlakes.ca
SUMMARY:Invasive Species Awareness Week Feb 23 - Mar 1\, 2026
DESCRIPTION:Join this annual national campaign to learn about invasive species\, the threats they pose to lake ecosystems\, and steps you can take to help prevent their spread. Visit the Invasive Species Centre for toolkits and educational resources.
URL:https://bobsandcrowlakes.ca/event/invasive-species-awareness-week-feb-23-mar-1-2026/
ATTACH;FMTTYPE=image/jpeg:https://bobsandcrowlakes.ca/wp-content/uploads/2026/02/ISAW_2026_Facebook_header.jpg
END:VEVENT
END:VCALENDAR